BEGIN:VCALENDAR
VERSION:2.0
PRODID:-//Stadtmusik Neustadt e.V. - ECPv6.15.20//NONSGML v1.0//EN
CALSCALE:GREGORIAN
METHOD:PUBLISH
X-ORIGINAL-URL:https://stadtmusik-neustadt.de
X-WR-CALDESC:Veranstaltungen für Stadtmusik Neustadt e.V.
REFRESH-INTERVAL;VALUE=DURATION:PT1H
X-Robots-Tag:noindex
X-PUBLISHED-TTL:PT1H
BEGIN:VTIMEZONE
TZID:Europe/Berlin
BEGIN:DAYLIGHT
TZOFFSETFROM:+0100
TZOFFSETTO:+0200
TZNAME:CEST
DTSTART:20250330T010000
END:DAYLIGHT
BEGIN:STANDARD
TZOFFSETFROM:+0200
TZOFFSETTO:+0100
TZNAME:CET
DTSTART:20251026T010000
END:STANDARD
BEGIN:DAYLIGHT
TZOFFSETFROM:+0100
TZOFFSETTO:+0200
TZNAME:CEST
DTSTART:20260329T010000
END:DAYLIGHT
BEGIN:STANDARD
TZOFFSETFROM:+0200
TZOFFSETTO:+0100
TZNAME:CET
DTSTART:20261025T010000
END:STANDARD
BEGIN:DAYLIGHT
TZOFFSETFROM:+0100
TZOFFSETTO:+0200
TZNAME:CEST
DTSTART:20270328T010000
END:DAYLIGHT
BEGIN:STANDARD
TZOFFSETFROM:+0200
TZOFFSETTO:+0100
TZNAME:CET
DTSTART:20271031T010000
END:STANDARD
END:VTIMEZONE
BEGIN:VEVENT
DTSTART;TZID=Europe/Berlin:20261205T190000
DTEND;TZID=Europe/Berlin:20261205T220000
DTSTAMP:20260424T031014
CREATED:20260305T123823Z
LAST-MODIFIED:20260305T123823Z
UID:10474-1796497200-1796508000@stadtmusik-neustadt.de
SUMMARY:1. Jahreskonzert
DESCRIPTION:
URL:https://stadtmusik-neustadt.de/termin/1-jahreskonzert-2/
LOCATION:Kurhaus\, Titisee
END:VEVENT
BEGIN:VEVENT
DTSTART;TZID=Europe/Berlin:20261206T170000
DTEND;TZID=Europe/Berlin:20261206T200000
DTSTAMP:20260424T031014
CREATED:20260305T123857Z
LAST-MODIFIED:20260305T123857Z
UID:10477-1796576400-1796587200@stadtmusik-neustadt.de
SUMMARY:2. Jahreskonzert
DESCRIPTION:
URL:https://stadtmusik-neustadt.de/termin/2-jahreskonzert-2/
LOCATION:Kurhaus\, Titisee
END:VEVENT
END:VCALENDAR